BEGIN:VCALENDAR
VERSION:2.0
PRODID:-//RIGHTHERE//CALENDARIZE IT V3.2//EN
BEGIN:VEVENT
UID:28410-events@www.hitra.kommune.no
DTSTART;VALUE=DATE:20241220
DTEND;VALUE=DATE:20241220
DTSTAMP:20231108T093528Z
SUMMARY:Siste skoledag før jul
END:VEVENT
END:VCALENDAR